BEGIN:VCALENDAR
VERSION:2.0
PRODID:itakvim.com
METHOD:PUBLISH
UID:00eda5a6-6dbf-4f07-d246-08de9f271cd7
X-WR-CALNAME:MCARD, %2.96, 4,5896 TL
X-ITAKVIM-LANGUAGE:tr
X-ITAKVIM-REGION:TR
CALSCALE:GREGORIAN
BEGIN:VEVENT
UID:00eda5a6-6dbf-4f07-d246-08de9f271cd7
DTSTAMP:20260420T215226Z
DTSTART:20260513T060000Z
DTEND:20260513T140000Z
TRANSP:TRANSPARENT
STATUS:CONFIRMED
SUMMARY:MCARD, %2.96, 4,5896 TL
DESCRIPTION:(MetropolCard) Metropal Kurumsal Hizmetler A.Ş.
END:VEVENT
END:VCALENDAR
