BEGIN:VCALENDAR
VERSION:2.0
PRODID:itakvim.com
METHOD:PUBLISH
UID:013b3f6d-36b8-4c6c-d237-08de9f271cd7
X-WR-CALNAME:MSGYO, %5.24, 0,4257 TL
X-ITAKVIM-LANGUAGE:tr
X-ITAKVIM-REGION:TR
CALSCALE:GREGORIAN
BEGIN:VEVENT
UID:013b3f6d-36b8-4c6c-d237-08de9f271cd7
DTSTAMP:20260420T215226Z
DTSTART:20260428T060000Z
DTEND:20260428T140000Z
TRANSP:TRANSPARENT
STATUS:CONFIRMED
SUMMARY:MSGYO, %5.24, 0,4257 TL
DESCRIPTION:Mistral Gayrimenkul Yatırım Ortaklığı A.Ş.
END:VEVENT
END:VCALENDAR
