BEGIN:VCALENDAR
VERSION:2.0
PRODID:itakvim.com
METHOD:PUBLISH
UID:040632ff-b05e-4470-d239-08de9f271cd7
X-WR-CALNAME:NETCD, %3.03, 3,7226 TL
X-ITAKVIM-LANGUAGE:tr
X-ITAKVIM-REGION:TR
CALSCALE:GREGORIAN
BEGIN:VEVENT
UID:040632ff-b05e-4470-d239-08de9f271cd7
DTSTAMP:20260420T215226Z
DTSTART:20260430T060000Z
DTEND:20260430T140000Z
TRANSP:TRANSPARENT
STATUS:CONFIRMED
SUMMARY:NETCD, %3.03, 3,7226 TL
DESCRIPTION:Netcad Yazılım A.Ş.
END:VEVENT
END:VCALENDAR
