BEGIN:VCALENDAR
VERSION:2.0
PRODID:itakvim.com
METHOD:PUBLISH
UID:0551b03d-af23-4919-d240-08de9f271cd7
X-WR-CALNAME:KLKIM, %1.69, 0,5543 TL
X-ITAKVIM-LANGUAGE:tr
X-ITAKVIM-REGION:TR
CALSCALE:GREGORIAN
BEGIN:VEVENT
UID:0551b03d-af23-4919-d240-08de9f271cd7
DTSTAMP:20260420T215226Z
DTSTART:20260508T060000Z
DTEND:20260508T140000Z
TRANSP:TRANSPARENT
STATUS:CONFIRMED
SUMMARY:KLKIM, %1.69, 0,5543 TL
DESCRIPTION:Kalekim Kimyevi Maddeler San. ve Tic. A.Ş.
END:VEVENT
END:VCALENDAR
