BEGIN:VCALENDAR
VERSION:2.0
PRODID:itakvim.com
METHOD:PUBLISH
UID:0ab22d3c-192f-4cff-d23c-08de9f271cd7
X-WR-CALNAME:NTGAZ, %7.01, 0,7391 TL
X-ITAKVIM-LANGUAGE:tr
X-ITAKVIM-REGION:TR
CALSCALE:GREGORIAN
BEGIN:VEVENT
UID:0ab22d3c-192f-4cff-d23c-08de9f271cd7
DTSTAMP:20260420T215226Z
DTSTART:20260506T060000Z
DTEND:20260506T140000Z
TRANSP:TRANSPARENT
STATUS:CONFIRMED
SUMMARY:NTGAZ, %7.01, 0,7391 TL
DESCRIPTION:Naturelgaz Sanayi ve Ticaret A.Ş.
END:VEVENT
END:VCALENDAR
