BEGIN:VCALENDAR
VERSION:2.0
PRODID:itakvim.com
METHOD:PUBLISH
UID:0c2ea0aa-41da-4175-d25f-08de9f271cd7
X-WR-CALNAME:PAGYO, %3.01, 3,9000 TL
X-ITAKVIM-LANGUAGE:tr
X-ITAKVIM-REGION:TR
CALSCALE:GREGORIAN
BEGIN:VEVENT
UID:0c2ea0aa-41da-4175-d25f-08de9f271cd7
DTSTAMP:20260420T215226Z
DTSTART:20260624T060000Z
DTEND:20260624T140000Z
TRANSP:TRANSPARENT
STATUS:CONFIRMED
SUMMARY:PAGYO, %3.01, 3,9000 TL
DESCRIPTION:Panora Gayrimenkul Yatırım Ortaklığı A.Ş.
END:VEVENT
END:VCALENDAR
