BEGIN:VCALENDAR
VERSION:2.0
PRODID:itakvim.com
METHOD:PUBLISH
UID:263d7d39-ac8a-4c4a-d261-08de9f271cd7
X-WR-CALNAME:AVPGY, %4.42, 2,5000 TL
X-ITAKVIM-LANGUAGE:tr
X-ITAKVIM-REGION:TR
CALSCALE:GREGORIAN
BEGIN:VEVENT
UID:263d7d39-ac8a-4c4a-d261-08de9f271cd7
DTSTAMP:20260420T215226Z
DTSTART:20260624T060000Z
DTEND:20260624T140000Z
TRANSP:TRANSPARENT
STATUS:CONFIRMED
SUMMARY:AVPGY, %4.42, 2,5000 TL
DESCRIPTION:Avrupakent Gayrimenkul Yatırım Ortaklığı A.Ş.
END:VEVENT
END:VCALENDAR
