BEGIN:VCALENDAR
VERSION:2.0
PRODID:itakvim.com
METHOD:PUBLISH
UID:2a25508a-f83c-4a3b-d24b-08de9f271cd7
X-WR-CALNAME:SARKY, %1.16, 0,3000 TL
X-ITAKVIM-LANGUAGE:tr
X-ITAKVIM-REGION:TR
CALSCALE:GREGORIAN
BEGIN:VEVENT
UID:2a25508a-f83c-4a3b-d24b-08de9f271cd7
DTSTAMP:20260420T215226Z
DTSTART:20260518T060000Z
DTEND:20260518T140000Z
TRANSP:TRANSPARENT
STATUS:CONFIRMED
SUMMARY:SARKY, %1.16, 0,3000 TL
DESCRIPTION:Sarkuysan Elektrolit Bakır San. ve Tic. A.Ş.
END:VEVENT
END:VCALENDAR
