BEGIN:VCALENDAR
VERSION:2.0
PRODID:itakvim.com
METHOD:PUBLISH
UID:2e773b92-821e-477e-d236-08de9f271cd7
X-WR-CALNAME:OSMEN, %0.60, 0,0425 TL
X-ITAKVIM-LANGUAGE:tr
X-ITAKVIM-REGION:TR
CALSCALE:GREGORIAN
BEGIN:VEVENT
UID:2e773b92-821e-477e-d236-08de9f271cd7
DTSTAMP:20260420T215226Z
DTSTART:20260428T060000Z
DTEND:20260428T140000Z
TRANSP:TRANSPARENT
STATUS:CONFIRMED
SUMMARY:OSMEN, %0.60, 0,0425 TL
DESCRIPTION:Osmanlı Yatırım Menkul Değerler A.Ş.
END:VEVENT
END:VCALENDAR
