BEGIN:VCALENDAR
VERSION:2.0
PRODID:itakvim.com
METHOD:PUBLISH
UID:2ff42e06-74bc-454a-d260-08de9f271cd7
X-WR-CALNAME:EKGYO, %2.69, 0,6000 TL
X-ITAKVIM-LANGUAGE:tr
X-ITAKVIM-REGION:TR
CALSCALE:GREGORIAN
BEGIN:VEVENT
UID:2ff42e06-74bc-454a-d260-08de9f271cd7
DTSTAMP:20260420T215226Z
DTSTART:20260624T060000Z
DTEND:20260624T140000Z
TRANSP:TRANSPARENT
STATUS:CONFIRMED
SUMMARY:EKGYO, %2.69, 0,6000 TL
DESCRIPTION:Emlak Konut Gayrimenkul Yatırım A.Ş.
END:VEVENT
END:VCALENDAR
