BEGIN:VCALENDAR
VERSION:2.0
PRODID:itakvim.com
METHOD:PUBLISH
UID:38300040-5692-4cd5-d247-08de9f271cd7
X-WR-CALNAME:BRKVY, %0.52, 0,4486 TL
X-ITAKVIM-LANGUAGE:tr
X-ITAKVIM-REGION:TR
CALSCALE:GREGORIAN
BEGIN:VEVENT
UID:38300040-5692-4cd5-d247-08de9f271cd7
DTSTAMP:20260420T215226Z
DTSTART:20260513T060000Z
DTEND:20260513T140000Z
TRANSP:TRANSPARENT
STATUS:CONFIRMED
SUMMARY:BRKVY, %0.52, 0,4486 TL
DESCRIPTION:Birikim Varlık Yönetim A.Ş.
END:VEVENT
END:VCALENDAR
