BEGIN:VCALENDAR
VERSION:2.0
PRODID:itakvim.com
METHOD:PUBLISH
UID:46033505-9d2b-4350-d25b-08de9f271cd7
X-WR-CALNAME:BULGS, %0.21, 0,0932 TL
X-ITAKVIM-LANGUAGE:tr
X-ITAKVIM-REGION:TR
CALSCALE:GREGORIAN
BEGIN:VEVENT
UID:46033505-9d2b-4350-d25b-08de9f271cd7
DTSTAMP:20260420T215226Z
DTSTART:20260615T060000Z
DTEND:20260615T140000Z
TRANSP:TRANSPARENT
STATUS:CONFIRMED
SUMMARY:BULGS, %0.21, 0,0932 TL
DESCRIPTION:Bulls Girişim Sermayesi Yatırım Ortaklığı A.Ş.
END:VEVENT
END:VCALENDAR
