BEGIN:VCALENDAR
VERSION:2.0
PRODID:itakvim.com
METHOD:PUBLISH
UID:47d67dce-c1b8-43ae-d23a-08de9f271cd7
X-WR-CALNAME:ALARK, %3.20, 2,6227 TL
X-ITAKVIM-LANGUAGE:tr
X-ITAKVIM-REGION:TR
CALSCALE:GREGORIAN
BEGIN:VEVENT
UID:47d67dce-c1b8-43ae-d23a-08de9f271cd7
DTSTAMP:20260420T215226Z
DTSTART:20260504T060000Z
DTEND:20260504T140000Z
TRANSP:TRANSPARENT
STATUS:CONFIRMED
SUMMARY:ALARK, %3.20, 2,6227 TL
DESCRIPTION:Alarko Holding A.Ş.
END:VEVENT
END:VCALENDAR
