BEGIN:VCALENDAR
VERSION:2.0
PRODID:itakvim.com
METHOD:PUBLISH
UID:4fb3dbb7-5d39-485e-d23e-08de9f271cd7
X-WR-CALNAME:ECILC, %1.91, 1,4885 TL
X-ITAKVIM-LANGUAGE:tr
X-ITAKVIM-REGION:TR
CALSCALE:GREGORIAN
BEGIN:VEVENT
UID:4fb3dbb7-5d39-485e-d23e-08de9f271cd7
DTSTAMP:20260420T215226Z
DTSTART:20260506T060000Z
DTEND:20260506T140000Z
TRANSP:TRANSPARENT
STATUS:CONFIRMED
SUMMARY:ECILC, %1.91, 1,4885 TL
DESCRIPTION:Eis Eczacıbaşı İlaç Sınai ve Finansal Yatırımlar San. ve Tic. A.Ş.
END:VEVENT
END:VCALENDAR
