BEGIN:VCALENDAR
VERSION:2.0
PRODID:itakvim.com
METHOD:PUBLISH
UID:528a4c4c-e4e3-41d6-d263-08de9f271cd7
X-WR-CALNAME:ISKPL, %0.00, 0,0004 TL
X-ITAKVIM-LANGUAGE:tr
X-ITAKVIM-REGION:TR
CALSCALE:GREGORIAN
BEGIN:VEVENT
UID:528a4c4c-e4e3-41d6-d263-08de9f271cd7
DTSTAMP:20260420T215226Z
DTSTART:20260626T060000Z
DTEND:20260626T140000Z
TRANSP:TRANSPARENT
STATUS:CONFIRMED
SUMMARY:ISKPL, %0.00, 0,0004 TL
DESCRIPTION:Işık Plastik Sanayi ve Dış Ticaret Pazarlama A.Ş.
END:VEVENT
END:VCALENDAR
