BEGIN:VCALENDAR
VERSION:2.0
PRODID:itakvim.com
METHOD:PUBLISH
UID:58a90ae7-66a0-43b6-d235-08de9f271cd7
X-WR-CALNAME:YUNSA, %4.10, 0,3107 TL
X-ITAKVIM-LANGUAGE:tr
X-ITAKVIM-REGION:TR
CALSCALE:GREGORIAN
BEGIN:VEVENT
UID:58a90ae7-66a0-43b6-d235-08de9f271cd7
DTSTAMP:20260420T215226Z
DTSTART:20260427T060000Z
DTEND:20260427T140000Z
TRANSP:TRANSPARENT
STATUS:CONFIRMED
SUMMARY:YUNSA, %4.10, 0,3107 TL
DESCRIPTION:Yünsa Yünlü San. ve Tic. A.Ş.
END:VEVENT
END:VCALENDAR
