BEGIN:VCALENDAR
VERSION:2.0
PRODID:itakvim.com
METHOD:PUBLISH
UID:9d9e63f4-8bad-43cb-d259-08de9f271cd7
X-WR-CALNAME:YAPRK, %0.15, 0,0213 TL
X-ITAKVIM-LANGUAGE:tr
X-ITAKVIM-REGION:TR
CALSCALE:GREGORIAN
BEGIN:VEVENT
UID:9d9e63f4-8bad-43cb-d259-08de9f271cd7
DTSTAMP:20260420T215226Z
DTSTART:20260610T060000Z
DTEND:20260610T140000Z
TRANSP:TRANSPARENT
STATUS:CONFIRMED
SUMMARY:YAPRK, %0.15, 0,0213 TL
DESCRIPTION:Yaprak Süt ve Besi Çiftlikleri San. ve Tic. A.Ş.
END:VEVENT
END:VCALENDAR
