BEGIN:VCALENDAR
VERSION:2.0
PRODID:itakvim.com
METHOD:PUBLISH
UID:a3bb42d2-3f91-4c5e-d245-08de9f271cd7
X-WR-CALNAME:AEFES, %0.87, 0,1443 TL
X-ITAKVIM-LANGUAGE:tr
X-ITAKVIM-REGION:TR
CALSCALE:GREGORIAN
BEGIN:VEVENT
UID:a3bb42d2-3f91-4c5e-d245-08de9f271cd7
DTSTAMP:20260420T215226Z
DTSTART:20260513T060000Z
DTEND:20260513T140000Z
TRANSP:TRANSPARENT
STATUS:CONFIRMED
SUMMARY:AEFES, %0.87, 0,1443 TL
DESCRIPTION:Anadolu Efes Biracılık ve Malt Sanayii A.Ş.
END:VEVENT
END:VCALENDAR
