BEGIN:VCALENDAR
VERSION:2.0
PRODID:itakvim.com
METHOD:PUBLISH
UID:a81ea029-5bf6-4d08-d248-08de9f271cd7
X-WR-CALNAME:MGROS, %0.68, 3,8731 TL
X-ITAKVIM-LANGUAGE:tr
X-ITAKVIM-REGION:TR
CALSCALE:GREGORIAN
BEGIN:VEVENT
UID:a81ea029-5bf6-4d08-d248-08de9f271cd7
DTSTAMP:20260420T215226Z
DTSTART:20260513T060000Z
DTEND:20260513T140000Z
TRANSP:TRANSPARENT
STATUS:CONFIRMED
SUMMARY:MGROS, %0.68, 3,8731 TL
DESCRIPTION:Migros T.A.Ş.
END:VEVENT
END:VCALENDAR
