BEGIN:VCALENDAR
VERSION:2.0
PRODID:itakvim.com
METHOD:PUBLISH
UID:abcf8ed2-28fb-4076-d25d-08de9f271cd7
X-WR-CALNAME:BIMAS, %0.52, 3,4000 TL
X-ITAKVIM-LANGUAGE:tr
X-ITAKVIM-REGION:TR
CALSCALE:GREGORIAN
BEGIN:VEVENT
UID:abcf8ed2-28fb-4076-d25d-08de9f271cd7
DTSTAMP:20260420T215226Z
DTSTART:20260617T060000Z
DTEND:20260617T140000Z
TRANSP:TRANSPARENT
STATUS:CONFIRMED
SUMMARY:BIMAS, %0.52, 3,4000 TL
DESCRIPTION:Bim Birleşik Mağazalar A.Ş.
END:VEVENT
END:VCALENDAR
