BEGIN:VCALENDAR
VERSION:2.0
PRODID:itakvim.com
METHOD:PUBLISH
UID:afe80fc1-f296-45fc-d243-08de9f271cd7
X-WR-CALNAME:OZGYO, %0.80, 0,0168 TL
X-ITAKVIM-LANGUAGE:tr
X-ITAKVIM-REGION:TR
CALSCALE:GREGORIAN
BEGIN:VEVENT
UID:afe80fc1-f296-45fc-d243-08de9f271cd7
DTSTAMP:20260420T215226Z
DTSTART:20260512T060000Z
DTEND:20260512T140000Z
TRANSP:TRANSPARENT
STATUS:CONFIRMED
SUMMARY:OZGYO, %0.80, 0,0168 TL
DESCRIPTION:Özderici Gayrimenkul Yatırım Ortaklığı A.Ş.
END:VEVENT
END:VCALENDAR
