BEGIN:VCALENDAR
VERSION:2.0
PRODID:itakvim.com
METHOD:PUBLISH
UID:afee0739-bed6-4672-d256-08de9f271cd7
X-WR-CALNAME:AYES, %1.08, 0,3000 TL
X-ITAKVIM-LANGUAGE:tr
X-ITAKVIM-REGION:TR
CALSCALE:GREGORIAN
BEGIN:VEVENT
UID:afee0739-bed6-4672-d256-08de9f271cd7
DTSTAMP:20260420T215226Z
DTSTART:20260601T060000Z
DTEND:20260601T140000Z
TRANSP:TRANSPARENT
STATUS:CONFIRMED
SUMMARY:AYES, %1.08, 0,3000 TL
DESCRIPTION:Ayes Çelik Hasır ve Çit Sanayi A.Ş.
END:VEVENT
END:VCALENDAR
