BEGIN:VCALENDAR
VERSION:2.0
PRODID:itakvim.com
METHOD:PUBLISH
UID:b45f3c4b-ed29-43df-d257-08de9f271cd7
X-WR-CALNAME:SISE, %1.22, 0,4995 TL
X-ITAKVIM-LANGUAGE:tr
X-ITAKVIM-REGION:TR
CALSCALE:GREGORIAN
BEGIN:VEVENT
UID:b45f3c4b-ed29-43df-d257-08de9f271cd7
DTSTAMP:20260420T215226Z
DTSTART:20260601T060000Z
DTEND:20260601T140000Z
TRANSP:TRANSPARENT
STATUS:CONFIRMED
SUMMARY:SISE, %1.22, 0,4995 TL
DESCRIPTION:Türkiye Şişe ve Cam Fabrikaları A.Ş.
END:VEVENT
END:VCALENDAR
