BEGIN:VCALENDAR
VERSION:2.0
PRODID:itakvim.com
METHOD:PUBLISH
UID:bcf76155-27a5-444a-d252-08de9f271cd7
X-WR-CALNAME:LIDFA, %4.27, 0,1329 TL
X-ITAKVIM-LANGUAGE:tr
X-ITAKVIM-REGION:TR
CALSCALE:GREGORIAN
BEGIN:VEVENT
UID:bcf76155-27a5-444a-d252-08de9f271cd7
DTSTAMP:20260420T215226Z
DTSTART:20260521T060000Z
DTEND:20260521T140000Z
TRANSP:TRANSPARENT
STATUS:CONFIRMED
SUMMARY:LIDFA, %4.27, 0,1329 TL
DESCRIPTION:Lider Faktoring A.Ş.
END:VEVENT
END:VCALENDAR
