BEGIN:VCALENDAR
VERSION:2.0
PRODID:itakvim.com
METHOD:PUBLISH
UID:c8627034-d286-4f95-d24f-08de9f271cd7
X-WR-CALNAME:LKMNH, %1.46, 0,1968 TL
X-ITAKVIM-LANGUAGE:tr
X-ITAKVIM-REGION:TR
CALSCALE:GREGORIAN
BEGIN:VEVENT
UID:c8627034-d286-4f95-d24f-08de9f271cd7
DTSTAMP:20260420T215226Z
DTSTART:20260520T060000Z
DTEND:20260520T140000Z
TRANSP:TRANSPARENT
STATUS:CONFIRMED
SUMMARY:LKMNH, %1.46, 0,1968 TL
DESCRIPTION:Lokman Hekim Engürüsağ Sağlık Turizm Eğitim Hizmetleri ve İnşaat Taahhüt A.Ş.
END:VEVENT
END:VCALENDAR
