BEGIN:VCALENDAR
VERSION:2.0
PRODID:itakvim.com
METHOD:PUBLISH
UID:ceb4d602-2c91-4421-d250-08de9f271cd7
X-WR-CALNAME:PETUN, %1.95, 0,2083 TL
X-ITAKVIM-LANGUAGE:tr
X-ITAKVIM-REGION:TR
CALSCALE:GREGORIAN
BEGIN:VEVENT
UID:ceb4d602-2c91-4421-d250-08de9f271cd7
DTSTAMP:20260420T215226Z
DTSTART:20260520T060000Z
DTEND:20260520T140000Z
TRANSP:TRANSPARENT
STATUS:CONFIRMED
SUMMARY:PETUN, %1.95, 0,2083 TL
DESCRIPTION:Pınar Entegre Et ve Un Sanayi A.Ş.
END:VEVENT
END:VCALENDAR
