BEGIN:VCALENDAR
VERSION:2.0
PRODID:itakvim.com
METHOD:PUBLISH
UID:cf89a6f8-d948-484f-d255-08de9f271cd7
X-WR-CALNAME:TEZOL, %2.44, 0,3825 TL
X-ITAKVIM-LANGUAGE:tr
X-ITAKVIM-REGION:TR
CALSCALE:GREGORIAN
BEGIN:VEVENT
UID:cf89a6f8-d948-484f-d255-08de9f271cd7
DTSTAMP:20260420T215226Z
DTSTART:20260601T060000Z
DTEND:20260601T140000Z
TRANSP:TRANSPARENT
STATUS:CONFIRMED
SUMMARY:TEZOL, %2.44, 0,3825 TL
DESCRIPTION:Europap Tezol Kağıt San. ve Tic. A.Ş.
END:VEVENT
END:VCALENDAR
