BEGIN:VCALENDAR
VERSION:2.0
PRODID:itakvim.com
METHOD:PUBLISH
UID:d0c15574-f1d9-4484-d258-08de9f271cd7
X-WR-CALNAME:AVPGY, %4.42, 2,5000 TL
X-ITAKVIM-LANGUAGE:tr
X-ITAKVIM-REGION:TR
CALSCALE:GREGORIAN
BEGIN:VEVENT
UID:d0c15574-f1d9-4484-d258-08de9f271cd7
DTSTAMP:20260420T215226Z
DTSTART:20260603T060000Z
DTEND:20260603T140000Z
TRANSP:TRANSPARENT
STATUS:CONFIRMED
SUMMARY:AVPGY, %4.42, 2,5000 TL
DESCRIPTION:Avrupakent Gayrimenkul Yatırım Ortaklığı A.Ş.
END:VEVENT
END:VCALENDAR
