BEGIN:VCALENDAR
VERSION:2.0
PRODID:itakvim.com
METHOD:PUBLISH
UID:d3093d1e-52b5-4d45-8d9c-08de9dec68b5
X-WR-CALNAME:1.Sorgun Tarım Hayvancılık Ve Gıda Fuarı
X-ITAKVIM-LANGUAGE:tr
X-ITAKVIM-REGION:TR
CALSCALE:GREGORIAN
BEGIN:VEVENT
UID:d3093d1e-52b5-4d45-8d9c-08de9dec68b5
DTSTAMP:20260419T083022Z
DTSTART:20260604T060000Z
DTEND:20260604T150000Z
TRANSP:TRANSPARENT
STATUS:CONFIRMED
SUMMARY:1.Sorgun Tarım Hayvancılık Ve Gıda Fuarı
DESCRIPTION:Show Fuarcılık Organizasyon Ticaret Ve Sanayi Limited Şirketi tarafından düzenlenen tarım gıda hayvancılık teknolojileri ve endüstrileri konulu fuarda görüşmek üzere: 

Web:www.showfuar.com
E-Posta: showfuar@gmail.com
LOCATION:Sorgun Geçici Fuar Merkezi
END:VEVENT
END:VCALENDAR
