BEGIN:VCALENDAR
VERSION:2.0
PRODID:itakvim.com
METHOD:PUBLISH
UID:d7eaa3a6-778e-4a9b-d253-08de9f271cd7
X-WR-CALNAME:GRTHO, %0.18, 0,3817 TL
X-ITAKVIM-LANGUAGE:tr
X-ITAKVIM-REGION:TR
CALSCALE:GREGORIAN
BEGIN:VEVENT
UID:d7eaa3a6-778e-4a9b-d253-08de9f271cd7
DTSTAMP:20260420T215226Z
DTSTART:20260522T060000Z
DTEND:20260522T140000Z
TRANSP:TRANSPARENT
STATUS:CONFIRMED
SUMMARY:GRTHO, %0.18, 0,3817 TL
DESCRIPTION:Graınturk Holding A.Ş.
END:VEVENT
END:VCALENDAR
