BEGIN:VCALENDAR
VERSION:2.0
PRODID:itakvim.com
METHOD:PUBLISH
UID:dad63013-14ee-4f1e-d23b-08de9f271cd7
X-WR-CALNAME:LIDER, %0.02, 0,0303 TL
X-ITAKVIM-LANGUAGE:tr
X-ITAKVIM-REGION:TR
CALSCALE:GREGORIAN
BEGIN:VEVENT
UID:dad63013-14ee-4f1e-d23b-08de9f271cd7
DTSTAMP:20260420T215226Z
DTSTART:20260506T060000Z
DTEND:20260506T140000Z
TRANSP:TRANSPARENT
STATUS:CONFIRMED
SUMMARY:LIDER, %0.02, 0,0303 TL
DESCRIPTION:Ldr Turizm A.Ş.
END:VEVENT
END:VCALENDAR
