BEGIN:VCALENDAR
VERSION:2.0
PRODID:itakvim.com
METHOD:PUBLISH
UID:e09ad203-385d-4614-d24a-08de9f271cd7
X-WR-CALNAME:EGPRO, %1.69, 0,5459 TL
X-ITAKVIM-LANGUAGE:tr
X-ITAKVIM-REGION:TR
CALSCALE:GREGORIAN
BEGIN:VEVENT
UID:e09ad203-385d-4614-d24a-08de9f271cd7
DTSTAMP:20260420T215226Z
DTSTART:20260514T060000Z
DTEND:20260514T140000Z
TRANSP:TRANSPARENT
STATUS:CONFIRMED
SUMMARY:EGPRO, %1.69, 0,5459 TL
DESCRIPTION:Ege Profil Tic. ve San. A.Ş.
END:VEVENT
END:VCALENDAR
