BEGIN:VCALENDAR
VERSION:2.0
PRODID:itakvim.com
METHOD:PUBLISH
UID:e0d61538-5997-4daa-d233-08de9f271cd7
X-WR-CALNAME:AYEN, %2.32, 0,6639 TL
X-ITAKVIM-LANGUAGE:tr
X-ITAKVIM-REGION:TR
CALSCALE:GREGORIAN
BEGIN:VEVENT
UID:e0d61538-5997-4daa-d233-08de9f271cd7
DTSTAMP:20260420T215226Z
DTSTART:20260421T060000Z
DTEND:20260421T140000Z
TRANSP:TRANSPARENT
STATUS:CONFIRMED
SUMMARY:AYEN, %2.32, 0,6639 TL
DESCRIPTION:Ayen Enerji A.Ş.
END:VEVENT
END:VCALENDAR
