BEGIN:VCALENDAR
VERSION:2.0
PRODID:itakvim.com
METHOD:PUBLISH
UID:e6171540-6f36-49ab-d242-08de9f271cd7
X-WR-CALNAME:CCOLA, %2.01, 1,2155 TL
X-ITAKVIM-LANGUAGE:tr
X-ITAKVIM-REGION:TR
CALSCALE:GREGORIAN
BEGIN:VEVENT
UID:e6171540-6f36-49ab-d242-08de9f271cd7
DTSTAMP:20260420T215226Z
DTSTART:20260512T060000Z
DTEND:20260512T140000Z
TRANSP:TRANSPARENT
STATUS:CONFIRMED
SUMMARY:CCOLA, %2.01, 1,2155 TL
DESCRIPTION:Coca-Cola İçecek A.Ş.
END:VEVENT
END:VCALENDAR
