BEGIN:VCALENDAR
VERSION:2.0
PRODID:itakvim.com
METHOD:PUBLISH
UID:e682524f-4e81-4657-d262-08de9f271cd7
X-WR-CALNAME:VKGYO, %3.59, 0,1020 TL
X-ITAKVIM-LANGUAGE:tr
X-ITAKVIM-REGION:TR
CALSCALE:GREGORIAN
BEGIN:VEVENT
UID:e682524f-4e81-4657-d262-08de9f271cd7
DTSTAMP:20260420T215226Z
DTSTART:20260624T060000Z
DTEND:20260624T140000Z
TRANSP:TRANSPARENT
STATUS:CONFIRMED
SUMMARY:VKGYO, %3.59, 0,1020 TL
DESCRIPTION:Vakıf Gayrimenkul Yatırım Ortaklığı A.Ş.
END:VEVENT
END:VCALENDAR
