BEGIN:VCALENDAR
VERSION:2.0
PRODID:itakvim.com
METHOD:PUBLISH
UID:eb60dfbb-4fae-4230-d25a-08de9f271cd7
X-WR-CALNAME:ATATP, %0.68, 0,8500 TL
X-ITAKVIM-LANGUAGE:tr
X-ITAKVIM-REGION:TR
CALSCALE:GREGORIAN
BEGIN:VEVENT
UID:eb60dfbb-4fae-4230-d25a-08de9f271cd7
DTSTAMP:20260420T215226Z
DTSTART:20260610T060000Z
DTEND:20260610T140000Z
TRANSP:TRANSPARENT
STATUS:CONFIRMED
SUMMARY:ATATP, %0.68, 0,8500 TL
DESCRIPTION:Atp Yazılım ve Teknoloji A.Ş.
END:VEVENT
END:VCALENDAR
