BEGIN:VCALENDAR
VERSION:2.0
PRODID:itakvim.com
METHOD:PUBLISH
UID:f09c2c62-3151-48ba-d244-08de9f271cd7
X-WR-CALNAME:ASUZU, %3.36, 2,0238 TL
X-ITAKVIM-LANGUAGE:tr
X-ITAKVIM-REGION:TR
CALSCALE:GREGORIAN
BEGIN:VEVENT
UID:f09c2c62-3151-48ba-d244-08de9f271cd7
DTSTAMP:20260420T215226Z
DTSTART:20260512T060000Z
DTEND:20260512T140000Z
TRANSP:TRANSPARENT
STATUS:CONFIRMED
SUMMARY:ASUZU, %3.36, 2,0238 TL
DESCRIPTION:Anadolu Isuzu Otomotiv San. ve Tic. A.Ş.
END:VEVENT
END:VCALENDAR
