BEGIN:VCALENDAR
VERSION:2.0
PRODID:itakvim.com
METHOD:PUBLISH
UID:f13c6bd8-424f-4c06-d234-08de9f271cd7
X-WR-CALNAME:CLEBI, %4.78, 87,5500 TL
X-ITAKVIM-LANGUAGE:tr
X-ITAKVIM-REGION:TR
CALSCALE:GREGORIAN
BEGIN:VEVENT
UID:f13c6bd8-424f-4c06-d234-08de9f271cd7
DTSTAMP:20260420T215226Z
DTSTART:20260424T060000Z
DTEND:20260424T140000Z
TRANSP:TRANSPARENT
STATUS:CONFIRMED
SUMMARY:CLEBI, %4.78, 87,5500 TL
DESCRIPTION:Çelebi Hava Servisi A.Ş.
END:VEVENT
END:VCALENDAR
