BEGIN:VCALENDAR
VERSION:2.0
PRODID:itakvim.com
METHOD:PUBLISH
UID:f8cf67c9-8d9a-4b41-d25c-08de9f271cd7
X-WR-CALNAME:INDES, %2.17, 0,1847 TL
X-ITAKVIM-LANGUAGE:tr
X-ITAKVIM-REGION:TR
CALSCALE:GREGORIAN
BEGIN:VEVENT
UID:f8cf67c9-8d9a-4b41-d25c-08de9f271cd7
DTSTAMP:20260420T215226Z
DTSTART:20260615T060000Z
DTEND:20260615T140000Z
TRANSP:TRANSPARENT
STATUS:CONFIRMED
SUMMARY:INDES, %2.17, 0,1847 TL
DESCRIPTION:İndeks Bilgisayar Sistemleri Mühendislik San. ve Tic. A.Ş.
END:VEVENT
END:VCALENDAR
