BEGIN:VCALENDAR
VERSION:2.0
PRODID:itakvim.com
METHOD:PUBLISH
UID:fc3c5525-c866-4d6d-d249-08de9f271cd7
X-WR-CALNAME:TRCAS, %5.02, 1,9953 TL
X-ITAKVIM-LANGUAGE:tr
X-ITAKVIM-REGION:TR
CALSCALE:GREGORIAN
BEGIN:VEVENT
UID:fc3c5525-c866-4d6d-d249-08de9f271cd7
DTSTAMP:20260420T215226Z
DTSTART:20260513T060000Z
DTEND:20260513T140000Z
TRANSP:TRANSPARENT
STATUS:CONFIRMED
SUMMARY:TRCAS, %5.02, 1,9953 TL
DESCRIPTION:Turcas Holding A.Ş.
END:VEVENT
END:VCALENDAR
