BEGIN:VCALENDAR
VERSION:2.0
PRODID:itakvim.com
CALSCALE:GREGORIAN
METHOD:PUBLISH
UID:f7py2vzeibu
X-WR-CALNAME:Öğrenci Etkinlikleri Takvimi
X-ITAKVIM-LANGUAGE:tr
X-ORIGINAL-URL:itakvim.com
REFRESH-INTERVAL;VALUE=DURATION:PT1H
X-ITAKVIM-REGION:TR
X-Robots-Tag:noindex
X-PUBLISHED-TTL:PT1H
BEGIN:VEVENT
UID:fbed04ba-d3ee-4c42-7f43-08de9ac9dc8b
DTSTAMP:20260415T083451Z
TRANSP:TRANSPARENT
DTSTART:20260422T080000Z
DTEND:20260422T100000Z
STATUS:CONFIRMED
SUMMARY:Vizyoneks ile Staj ve Tanışma Etkinliği
LOCATION:AEF Amfi 101
BEGIN:VALARM
ACTION:DISPLAY
DESCRIPTION:Vizyoneks ile Staj ve Tanışma Etkinliği
TRIGGER:-PT1H
END:VALARM
BEGIN:VALARM
ACTION:DISPLAY
DESCRIPTION:Vizyoneks ile Staj ve Tanışma Etkinliği
TRIGGER:-PT24H
END:VALARM
END:VEVENT
BEGIN:VEVENT
UID:9bf9d859-5a87-4432-7f44-08de9ac9dc8b
DTSTAMP:20260415T083607Z
TRANSP:TRANSPARENT
DTSTART:20260429T150000Z
DTEND:20260429T170000Z
STATUS:CONFIRMED
SUMMARY:Açık Hava Sineması
LOCATION:AEF Arka Bahçesi
BEGIN:VALARM
ACTION:DISPLAY
DESCRIPTION:Açık Hava Sineması
TRIGGER:-PT24H
END:VALARM
END:VEVENT
END:VCALENDAR
