BEGIN:VCALENDAR
VERSION:2.0
PRODID:itakvim.com
CALSCALE:GREGORIAN
METHOD:PUBLISH
UID:piawfn1n1b4
X-WR-CALNAME:Öğrenci Kulüpleri Takvimi
X-ITAKVIM-LANGUAGE:tr
X-ORIGINAL-URL:itakvim.com
REFRESH-INTERVAL;VALUE=DURATION:PT1H
X-ITAKVIM-REGION:TR
X-Robots-Tag:noindex
X-PUBLISHED-TTL:PT1H
BEGIN:VEVENT
UID:c508c44a-69dc-4bfc-7f45-08de9ac9dc8b
DTSTAMP:20260415T083803Z
TRANSP:TRANSPARENT
DTSTART:20260427T070000Z
DTEND:20260427T090000Z
STATUS:CONFIRMED
SUMMARY:Müzik Kulübü ile Dinleti ve Tanışma
LOCATION:Göztepe Kampüsü, Açık Hava Amfisi
BEGIN:VALARM
ACTION:DISPLAY
DESCRIPTION:Müzik Kulübü ile Dinleti ve Tanışma
TRIGGER:-PT24H
END:VALARM
END:VEVENT
BEGIN:VEVENT
UID:c28c4a2c-f8c3-4999-7f46-08de9ac9dc8b
DTSTAMP:20260415T084114Z
TRANSP:TRANSPARENT
DTSTART:20260430T070000Z
DTEND:20260430T120000Z
STATUS:CONFIRMED
SUMMARY:Yazılım ve Yapay Zeka Kulübü ile Atölye Çalışması
DESCRIPTION:🚀 Gemini ile AI Studio Üzerinden Uygulama Geliştirme A
 tölyesi\n\nTech Istanbul ve GDG Istanbul iş birliği ile düzenlenen B
 uild with AI serisi kapsamında gerçekleştireceğimiz bu uygulamalı a
 tölyede\, katılımcılar Google’ın Gemini modeli ve AI Studio platf
 ormu ile tek satır kod yazmadan çalışan bir uygulama geliştirecek.\
 n\nYapay zeka artık sadece geliştiriciler için değil. Bir fikri olan
  herkes için.\n\nBu etkinlik\, “Kod bilmiyorum ama üretmek istiyorum
 ” diyenler için tasarlandı.\n\n🎯  Bu Atölyede Seni Ne Bekliyor
 ?\n\nYapay zeka destekli uygulama geliştirme mantığını öğrenme\n\
 nGemini modeli ile fikirden ürüne giden süreci deneyimleme\n\nAI Stud
 io üzerinde uygulamalı çalışma\n\nPrompt yazımı ve doğru yönlen
 dirme teknikleri\n\nFikrini çalışan bir ürüne dönüştürme prati
 ği\n\nAdım adım rehberlik ve birebir destek\n\nAtölye sonunda yalnı
 zca bir şey öğrenmiş olmayacaksın\, kendi geliştirdiğin çalışa
 n bir uygulama ile çıkacaksın.\n\n👥  Kimler Katılmalı?\n\nYapa
 y zekayı kullanarak üretmek isteyenler\n\nTeknik altyapısı 
LOCATION:Kayışdağı, Yanı Metro İstasyonu Girişi, Ataşehir, 34755 
BEGIN:VALARM
ACTION:DISPLAY
DESCRIPTION:Yazılım ve Yapay Zeka Kulübü ile Atölye Çalışması
TRIGGER:-PT24H
END:VALARM
END:VEVENT
END:VCALENDAR
